BEGIN:VCALENDAR
VERSION:2.0
PRODID:-//Evenementen bij LTC Keenenburg - ECPv6.15.20//NONSGML v1.0//EN
CALSCALE:GREGORIAN
METHOD:PUBLISH
X-WR-CALNAME:Evenementen bij LTC Keenenburg
X-ORIGINAL-URL:https://www.ltckeenenburg.net
X-WR-CALDESC:Evenementen voor Evenementen bij LTC Keenenburg
REFRESH-INTERVAL;VALUE=DURATION:PT1H
X-Robots-Tag:noindex
X-PUBLISHED-TTL:PT1H
BEGIN:VTIMEZONE
TZID:Europe/Paris
BEGIN:DAYLIGHT
TZOFFSETFROM:+0100
TZOFFSETTO:+0200
TZNAME:CEST
DTSTART:20250330T010000
END:DAYLIGHT
BEGIN:STANDARD
TZOFFSETFROM:+0200
TZOFFSETTO:+0100
TZNAME:CET
DTSTART:20251026T010000
END:STANDARD
BEGIN:DAYLIGHT
TZOFFSETFROM:+0100
TZOFFSETTO:+0200
TZNAME:CEST
DTSTART:20260329T010000
END:DAYLIGHT
BEGIN:STANDARD
TZOFFSETFROM:+0200
TZOFFSETTO:+0100
TZNAME:CET
DTSTART:20261025T010000
END:STANDARD
BEGIN:DAYLIGHT
TZOFFSETFROM:+0100
TZOFFSETTO:+0200
TZNAME:CEST
DTSTART:20270328T010000
END:DAYLIGHT
BEGIN:STANDARD
TZOFFSETFROM:+0200
TZOFFSETTO:+0100
TZNAME:CET
DTSTART:20271031T010000
END:STANDARD
END:VTIMEZONE
BEGIN:VEVENT
DTSTART;TZID=Europe/Paris:20260320T193000
DTEND;TZID=Europe/Paris:20260320T230000
DTSTAMP:20260423T154829
CREATED:20260201T210316Z
LAST-MODIFIED:20260319T213818Z
UID:78-1774035000-1774047600@www.ltckeenenburg.net
SUMMARY:PubQuiz voorjaar 2026 RESERVELIJST
DESCRIPTION:Wie wint de zestiende (!) LTC-Keenenburg-Pubquiz-Bokaal ? \n\n\n\nLET OP – de reservelijst is nu geopend omdat het maximum is bereikt \n\n\n\nOp vrijdag 20 maart organiseert LTC Keenenburg voor de 16e maal een pubquiz in de kantine van haar prachtige clubhuis. \n\n\n\nInschrijven per team van MAXIMAAL 5 PERSONENWees er wel snel bij want VOL is ook hier VOL\, er is een maximum aantal (24) teams wat we kunnen plaatsen. Daarna volgt de reservelijst. \n\n\n\nQuizmasters: Marian Hoogendijk en Lex Rutgers
URL:https://www.ltckeenenburg.net/evenement/pubquiz-2026-1/
LOCATION:Clubgebouw LTC Keenenburg\, Tiendweg 2\, Schipluiden\, 2636HH\, Nederland
ATTACH;FMTTYPE=image/png:https://www.ltckeenenburg.net/wp-content/uploads/2024/01/pubquiz-voorjaar.png
END:VEVENT
BEGIN:VEVENT
DTSTART;TZID=Europe/Paris:20260406T100000
DTEND;TZID=Europe/Paris:20260406T150000
DTSTAMP:20260423T154829
CREATED:20260228T210231Z
LAST-MODIFIED:20260310T150413Z
UID:161-1775469600-1775487600@www.ltckeenenburg.net
SUMMARY:1 daags Paas Padeltoernooi RESERVELIJST
DESCRIPTION:De reserve was geopend voor nog 2 koppels \n\n\n\nSchrijf je hier samen met je padelmaatje in (als koppel) en laat zien wat jullie kunnen.Er kunnen 8 koppels meedoen. Daarna zal de reservelijst geopend worden voor nog 2 koppels. \n\n\n\n🏆 Categorieën: \n\n\n\n• Beginner – voor wie het spel net ontdekt• Gevorderd – je slaat al aardig wat rally’s• Expert – voor de echte padeltoppers \n\n\n\n🥗 Tijdens de dag wordt gezorgd voor een heerlijke Paaslunch – dus spelen\, lachen én lekker eten gegarandeerd!
URL:https://www.ltckeenenburg.net/evenement/1-daags-paas-padeltoernooi/
LOCATION:Padelbanen LTC Keenenburg\, Tiendweg 2\, Schipluiden\, 2636 HH\, Netherlands
END:VEVENT
END:VCALENDAR